BEGIN:VCALENDAR
VERSION:2.0
PRODID:-//https://www.waldkirche-obertshausen.de///NONSGML kigkonsult.se iCalcreator 2.10.15//
METHOD:PUBLISH
BEGIN:VEVENT
UID:20260424T110527UTC-2749Nvu1Ew@https://www.waldkirche-obertshausen.de/
DTSTAMP:20260424T110527Z
DESCRIPTION:Ein paar Tage Auszeit nehmen und dabei sich selbst\, andere sow
 ie Gott besser kennenlernen\, die Natur erkunden und genießen\, gemeinsam 
 spielen und lachen\, Gott loben und anbeten. Klingt gut\, oder? Dann melde
 t euch gleich an – alle weiteren Details findet ihr in unserem Flyer. http
 s://www.waldkirche-obertshausen.de/veranstaltungen/event/922-gemeindefreiz
 eit-im-haus-hoehenblick
DTSTART:20260501T160000Z
DTEND:20260503T110000Z
LOCATION:Haus Höhenblick (Friederike-Fliedner-Straße 9\, 35619 Braunfels\, 
 Deutschland)
SUMMARY:Gemeindefreizeit im Haus Höhenblick
URL:https://www.waldkirche-obertshausen.de/veranstaltungen/event/922-gemein
 defreizeit-im-haus-hoehenblick
END:VEVENT
BEGIN:VEVENT
UID:20260424T110527UTC-2752W6pTFw@https://www.waldkirche-obertshausen.de/
DTSTAMP:20260424T110527Z
DESCRIPTION:Die Proben finden immer donnerstags um 19.30 Uhr statt. Die Lei
 tung hat Oliver Pleyer\, Kantor für Popularmusik\, Keyboarder und erfahren
 er Gospelchorleiter und Leiter unserer bisherigen erfolgreichen Chorprojek
 te.\nJeder kann mitmachen! Weil Singen Freude und fröhlich macht\, weil es
  vom Stress ablenkt und Abwechslung zum hektischen Alltag ist\, weil es ve
 rbindet\, das Wohlbefinden steigert sowie Atmung und Immunsysstem stärkt. 
 Wir freuen uns auf dich!\nTeilnehmerbeitrag: auf SpendenbasisWir bitten um
  Anmeldung über das Gemeindebüro.Telefon: 06104 41059E-Mail: info@waldki
 rche-obertshausen.de https://www.waldkirche-obertshausen.de/veranstaltunge
 n/event/928-gospel-worship-chorprobe
DTSTART:20260430T173000Z
DTEND:20260430T190000Z
LOCATION:Waldkirche (Schönbornstraße 42\, 63179 Obertshausen)
SUMMARY:Gospel & Worship-Chorprobe
URL:https://www.waldkirche-obertshausen.de/veranstaltungen/event/928-gospel
 -worship-chorprobe
END:VEVENT
BEGIN:VEVENT
UID:20260424T110527UTC-27537ktfsT@https://www.waldkirche-obertshausen.de/
DTSTAMP:20260424T110527Z
DESCRIPTION:Nach der Kirchenordnung unserer Landeskirche ist es vorgesehen\
 , dass der Kirchenvorstand einmal im Jahr zu einer Gemeindeversammlung ein
 lädt und dort über das aktuelle Geschehen in der Gemeinde informiert. Hier
  besteht auch die Möglichkeit\, Fragen zu stellen und direkt ins Gespräch 
 miteinander zu kommen. \nThemen der Gemeindeversammlung: KitaEKHN2030Stift
 ungFörderverein\nMit anschließender Austauschrunde zu ChurchTools. https:/
 /www.waldkirche-obertshausen.de/veranstaltungen/event/934-gemeindeversamml
 ung
DTSTART:20260426T093000Z
DTEND:20260426T103000Z
LOCATION:Waldkirche (Schönbornstraße 42\, 63179 Obertshausen)
SUMMARY:Gemeindeversammlung
URL:https://www.waldkirche-obertshausen.de/veranstaltungen/event/934-gemein
 deversammlung
END:VEVENT
BEGIN:VEVENT
UID:20260424T110527UTC-2754xRG7tu@https://www.waldkirche-obertshausen.de/
DTSTAMP:20260424T110527Z
DESCRIPTION:Der ökumenische Initiative „Wegbegleiter für Trauernde“ ist es 
 ein Anliegen\, Menschen\, die einen geliebten Angehörigen verloren haben\,
  zur Seite zu stehen und sie zu begleiten. \nDas Trauercafé ist überkonfes
 sionell angelegt und kann von jedem trauernden Erwachsenen genutzt werden.
  Kosten entstehen den Teilnehmern nicht. https://www.waldkirche-obertshaus
 en.de/veranstaltungen/event/935-trauercafe-im-gemeindehaus
DTSTART:20260503T130000Z
DTEND:20260503T150000Z
LOCATION:Gemeindehaus (Schönbornstraße 42\, 63179 Obertshausen)
SUMMARY:Trauercafé im Gemeindehaus
URL:https://www.waldkirche-obertshausen.de/veranstaltungen/event/935-trauer
 cafe-im-gemeindehaus
END:VEVENT
BEGIN:VEVENT
UID:20260424T110527UTC-2755d1UG79@https://www.waldkirche-obertshausen.de/
DTSTAMP:20260424T110527Z
DESCRIPTION: https://www.waldkirche-obertshausen.de/veranstaltungen/event/9
 47-arise---glaube-austausch-gemeinschaft
DTSTART:20260427T173000Z
DTEND:20260427T190000Z
LOCATION:Gemeindehaus (Schönbornstraße 42\, 63179 Obertshausen)
SUMMARY:arise – Glaube\, Austausch\, Gemeinschaft
URL:https://www.waldkirche-obertshausen.de/veranstaltungen/event/947-arise-
 --glaube-austausch-gemeinschaft
END:VEVENT
BEGIN:VEVENT
UID:20260424T110527UTC-27564RT8Ut@https://www.waldkirche-obertshausen.de/
DTSTAMP:20260424T110527Z
DESCRIPTION: https://www.waldkirche-obertshausen.de/veranstaltungen/event/9
 48-ueberkonfessionelles-stadtgebet
DTSTART:20260517T160000Z
DTEND:20260517T170000Z
LOCATION:Waldkirche (Schönbornstraße 42\, 63179 Obertshausen)
SUMMARY:Überkonfessionelles Stadtgebet
URL:https://www.waldkirche-obertshausen.de/veranstaltungen/event/948-ueberk
 onfessionelles-stadtgebet
END:VEVENT
BEGIN:VEVENT
UID:20260424T110527UTC-2757vRVwLs@https://www.waldkirche-obertshausen.de/
DTSTAMP:20260424T110527Z
DESCRIPTION: https://www.waldkirche-obertshausen.de/veranstaltungen/event/9
 49-arise---glaube-austausch-gemeinschaft
DTSTART:20260511T173000Z
DTEND:20260511T190000Z
LOCATION:Gemeindehaus (Schönbornstraße 42\, 63179 Obertshausen)
SUMMARY:arise – Glaube\, Austausch\, Gemeinschaft
URL:https://www.waldkirche-obertshausen.de/veranstaltungen/event/949-arise-
 --glaube-austausch-gemeinschaft
END:VEVENT
BEGIN:VEVENT
UID:20260424T110527UTC-27584rwZST@https://www.waldkirche-obertshausen.de/
DTSTAMP:20260424T110527Z
DESCRIPTION:Die Proben finden immer donnerstags um 19.30 Uhr statt. Die Lei
 tung hat Oliver Pleyer\, Kantor für Popularmusik\, Keyboarder und erfahren
 er Gospelchorleiter und Leiter unserer bisherigen erfolgreichen Chorprojek
 te.\nJeder kann mitmachen! Weil Singen Freude und fröhlich macht\, weil es
  vom Stress ablenkt und Abwechslung zum hektischen Alltag ist\, weil es ve
 rbindet\, das Wohlbefinden steigert sowie Atmung und Immunsysstem stärkt. 
 Wir freuen uns auf dich!\nTeilnehmerbeitrag: auf SpendenbasisWir bitten um
  Anmeldung über das Gemeindebüro.Telefon: 06104 41059E-Mail: info@waldki
 rche-obertshausen.de https://www.waldkirche-obertshausen.de/veranstaltunge
 n/event/950-gospel-worship-chorprobe
DTSTART:20260507T173000Z
DTEND:20260507T190000Z
LOCATION:Waldkirche (Schönbornstraße 42\, 63179 Obertshausen)
SUMMARY:Gospel & Worship-Chorprobe
URL:https://www.waldkirche-obertshausen.de/veranstaltungen/event/950-gospel
 -worship-chorprobe
END:VEVENT
END:VCALENDAR
